BEGIN:VCALENDAR
PRODID:-//AT Content Types//AT Event//EN
VERSION:1.0
BEGIN:VEVENT
DTSTART:20120915T090000Z
DTEND:20120915T104500Z
DCREATED:20120122T120109Z
UID:ATEvent-4fcbce0ce8605fdbb29aa7c0621ccf6a
SEQUENCE:0
LAST-MODIFIED:20120122T120214Z
SUMMARY:Von Bergen und Menschen
DESCRIPTION:Eine trittsichere und gipfelreiche Geschichtenführung im 
 Innsbrucker Alpenverein-Museum
LOCATION:Innsbruck\, Alpenverein-Museum\, Hofburg\, Rennweg 1
PRIORITY:3
TRANSP:0
END:VEVENT
END:VCALENDAR
