BEGIN:VCALENDAR
PRODID:-//AT Content Types//AT Event//EN
VERSION:2.0
METHOD:PUBLISH
BEGIN:VEVENT
DTSTAMP:20260424T015057Z
CREATED:20120122T115605Z
UID:ATEvent-dd2c84e61159565e1283593c4de9d6be
LAST-MODIFIED:20120326T074123Z
SUMMARY:Von Bergen und Menschen
DTSTART:20120414T090000Z
DTEND:20120414T104500Z
DESCRIPTION:Eine trittsichere und gipfelreiche Geschichtenführung im 
 Innsbrucker Alpenverein-Museum
LOCATION:Innsbruck\, Alpenverein-Museum\, Hofburg\, Rennweg 1
CATEGORIES:Tirol
CONTACT:Christian Kayed\, 0676-4103071
URL:http://www.storyguide.at
CLASS:PUBLIC
END:VEVENT
END:VCALENDAR
