BEGIN:VCALENDAR
PRODID:-//AT Content Types//AT Event//EN
VERSION:1.0
BEGIN:VEVENT
DTSTART:20120121T100000Z
DTEND:20120121T113000Z
DCREATED:20110911T174237Z
UID:ATEvent-3f7f83d289b00704d9274819c0c25a16
SEQUENCE:0
LAST-MODIFIED:20110911T174237Z
SUMMARY:Von Bergen und Menschen
DESCRIPTION:Eine trittsichere und gipfelreiche Geschichtenführung im 
 Innsbrucker Alpenvereinsmuseum
LOCATION:Innsbruck\, Alpenvereinsmuseum\, Hofburg\, Rennweg 1
PRIORITY:3
TRANSP:0
END:VEVENT
END:VCALENDAR
