BEGIN:VCALENDAR
PRODID:-//AT Content Types//AT Event//EN
VERSION:2.0
METHOD:PUBLISH
BEGIN:VEVENT
DTSTAMP:20260424T015820Z
CREATED:20130209T205715Z
UID:ATEvent-1f2af0a9b1adce81165083aea069cd41
LAST-MODIFIED:20130209T205824Z
SUMMARY:Tristan und Isolde. Erzählung und Musik
DTSTART:20130221T183000Z
DTEND:20130221T201500Z
DESCRIPTION:Ein Drachenkampf und ein Minnetrank\, ein Gottesurteil und
  eine bittersüße Liebe\, umrahmt von mittelhochdeutschen Liedern und
  Versen unter einem mittelalterlichen Gewölbe ...
LOCATION:Museum Goldenes Dachl\, Herzog-Friedrich-Straße 15\, Innsbruck\, 2. Stock
CATEGORIES:Tirol
CONTACT:Christian Kayed\, 0676-4103071
URL:http://www.storyguide.at
CLASS:PUBLIC
END:VEVENT
END:VCALENDAR
