BEGIN:VCALENDAR
PRODID:-//AT Content Types//AT Event//EN
VERSION:2.0
METHOD:PUBLISH
BEGIN:VEVENT
DTSTAMP:20260423T233653Z
CREATED:20091029T205734Z
UID:ATEvent-383a9f2088f76815fd279b006f6a5c80
LAST-MODIFIED:20091029T210128Z
SUMMARY:Märchen von Zauber und Geheimnis
DTSTART:20091113T180000Z
DTEND:20091113T193000Z
DESCRIPTION:Erzählt wird von Verwandlungen und verborgenem Wirken\,\n
 von Zauberlehrlingen\, Pilgern und Königstöchtern
LOCATION:Kuchl\, Mehrzweckhaus\, Markt 24
CATEGORIES:Salzburg
CONTACT:Christian Kayed\, 0676-4103071\, christian.kayed@storyguide.at
URL:http://www.storyguide.at
CLASS:PUBLIC
END:VEVENT
END:VCALENDAR
