BEGIN:VCALENDAR
PRODID:-//AT Content Types//AT Event//EN
VERSION:1.0
BEGIN:VEVENT
DTSTART:20091114T190000Z
DTEND:20091114T203000Z
DCREATED:20091029T210957Z
UID:ATEvent-a72cb40c38b8ed5df8f29a0274ae4612
SEQUENCE:0
LAST-MODIFIED:20091029T211048Z
SUMMARY:Märchen von Zauber und Geheimnis
DESCRIPTION:Erzählt wird von Verwandlungen und verborgenem Wirken\, v
 on Zauberlehrlingen\, Pilgern und Königstöchtern
LOCATION:Abtenau\, Pfarrzentrum\, Markt 2
PRIORITY:3
TRANSP:0
END:VEVENT
END:VCALENDAR
