BEGIN:VCALENDAR
PRODID:-//AT Content Types//AT Event//EN
VERSION:1.0
BEGIN:VEVENT
DTSTART:20100524T173000Z
DTEND:20100524T193000Z
DCREATED:20100422T183541Z
UID:ATEvent-1aa41dbd05d52b92455569c2daa82607
SEQUENCE:0
LAST-MODIFIED:20100422T183656Z
SUMMARY:Geschichten und Musik aus der Sufi-Tradition
DESCRIPTION:Ein geheimnisvoller Abend mit osmanischer Musik und einem 
 kleinen türkischen Buffet
LOCATION:Innsbruck\, Restaurant Celis\, Museumstr. 5 / Ecke Angerzellgasse
PRIORITY:3
TRANSP:0
END:VEVENT
END:VCALENDAR
