BEGIN:VCALENDAR
PRODID:-//AT Content Types//AT Event//EN
VERSION:2.0
METHOD:PUBLISH
BEGIN:VEVENT
DTSTAMP:20260424T015250Z
CREATED:20091228T171533Z
UID:ATEvent-e834c7108d91575410b4902f7cd408be
LAST-MODIFIED:20091228T171757Z
SUMMARY:Geschichten aus dem Orient
DTSTART:20100115T180000Z
DTEND:20100115T200000Z
DESCRIPTION:Benefizmärchenabend zugunsten des Caritas Integrationshau
 ses\: Arif Kansay kocht türkisch für Dinner Club\, als Dessert spiel
 t er Oud und Saz zu Christian Kayeds orientalischen Märchen und Gesch
 ichten (Essen circa 19 Uhr\, Märchenmusik circa 20 Uhr)
LOCATION:Caritas Integrationshaus\, Gumppstraße 71\, Innsbruck
CATEGORIES:Tirol
CONTACT:Christian Kayed\, 0676-4103071
URL:http://www.storyguide.at
CLASS:PUBLIC
END:VEVENT
END:VCALENDAR
