BEGIN:VCALENDAR
PRODID:-//AT Content Types//AT Event//EN
VERSION:1.0
BEGIN:VEVENT
DTSTART:20111127T100000Z
DTEND:20111127T113000Z
DCREATED:20110903T181946Z
UID:ATEvent-71c99b83e32775d1e9b7a1a21bce7c66
SEQUENCE:0
LAST-MODIFIED:20110903T181946Z
SUMMARY:Der Weg der Liebe
DESCRIPTION:Eine Geschichtenführung in den gemütlichen Stuben des In
 nsbrucker Volkskunstmuseums
LOCATION:Innsbruck\, Volkskunstmuseum\, Universitätsstraße 2
PRIORITY:3
TRANSP:0
END:VEVENT
END:VCALENDAR
