BEGIN:VCALENDAR
PRODID:-//AT Content Types//AT Event//EN
VERSION:1.0
BEGIN:VEVENT
DTSTART:20110923T133000Z
DTEND:20110923T151500Z
DCREATED:20110903T180601Z
UID:ATEvent-d5c87cb16b561439b66481798772bcc3
SEQUENCE:0
LAST-MODIFIED:20120122T121848Z
SUMMARY:Der Glanz des Goldes
DESCRIPTION:Eine Geschichtenführung zu Königen\, Heiligen und Götti
 nnen vor und hinter dem Goldenen Dachl
LOCATION:Innsbruck\, Goldenes Dachl
PRIORITY:3
TRANSP:0
END:VEVENT
END:VCALENDAR
