BEGIN:VCALENDAR
PRODID:-//AT Content Types//AT Event//EN
VERSION:1.0
BEGIN:VEVENT
DTSTART:20111021T133000Z
DTEND:20111021T151500Z
DCREATED:20110903T181327Z
UID:ATEvent-32e8aa247549bd497dc7c7d91877cb16
SEQUENCE:0
LAST-MODIFIED:20110903T181328Z
SUMMARY:Der Glanz des Goldes
DESCRIPTION:Eine Geschichtenführung zu Königen\, Heiligen und Götti
 nnen vor und hinter dem Goldenen Dachl
LOCATION:Innsbruck\, Goldenes Dachl
PRIORITY:3
TRANSP:0
END:VEVENT
END:VCALENDAR
