BEGIN:VCALENDAR
PRODID:-//AT Content Types//AT Event//EN
VERSION:1.0
BEGIN:VEVENT
DTSTART:20130921T090000Z
DTEND:20130921T104500Z
DCREATED:20120122T115605Z
UID:ATEvent-9a4c926e649b0a2fd272e5eaf0cd9faa
SEQUENCE:0
LAST-MODIFIED:20130212T190042Z
SUMMARY:Von Bergen und Menschen
DESCRIPTION:Eine trittsichere und gipfelreiche Geschichtenführung im 
 Innsbrucker Alpenverein-Museum
LOCATION:Innsbruck\, Alpenverein-Museum\, Hofburg\, Rennweg 1
PRIORITY:3
TRANSP:0
END:VEVENT
END:VCALENDAR
