BEGIN:VCALENDAR
PRODID:-//AT Content Types//AT Event//EN
VERSION:2.0
METHOD:PUBLISH
BEGIN:VEVENT
DTSTAMP:20260424T014924Z
CREATED:20110903T181946Z
UID:ATEvent-87edc6d9cba7e6a74caa894f45a78bd8
LAST-MODIFIED:20120122T120750Z
SUMMARY:Der Weg der Liebe
DTSTART:20120226T100000Z
DTEND:20120226T114500Z
DESCRIPTION:Eine Geschichtenführung in den gemütlichen Stuben des In
 nsbrucker Volkskunstmuseums
LOCATION:Innsbruck\, Volkskunstmuseum\, Universitätsstraße 2
CATEGORIES:Tirol
CONTACT:Christian Kayed\, 0676-4103071
URL:http://www.storyguide.at
CLASS:PUBLIC
END:VEVENT
END:VCALENDAR
