BEGIN:VCALENDAR
PRODID:-//AT Content Types//AT Event//EN
VERSION:1.0
BEGIN:VEVENT
DTSTART:20120330T133000Z
DTEND:20120330T151500Z
DCREATED:20110903T180601Z
UID:ATEvent-bd633f35b573876a800eaab39ee44c36
SEQUENCE:0
LAST-MODIFIED:20120122T121649Z
SUMMARY:Der Glanz des Goldes
DESCRIPTION:Eine Geschichtenführung zu Königen\, Heiligen und Götti
 nnen vor und hinter dem Goldenen Dachl
LOCATION:Innsbruck\, Goldenes Dachl
PRIORITY:3
TRANSP:0
END:VEVENT
END:VCALENDAR
