BEGIN:VCALENDAR
PRODID:-//AT Content Types//AT Event//EN
VERSION:2.0
METHOD:PUBLISH
BEGIN:VEVENT
DTSTAMP:20260424T014942Z
CREATED:20110903T181946Z
UID:ATEvent-a2ee912a7483ec332d5cc54d2b12bb61
LAST-MODIFIED:20120216T182212Z
SUMMARY:Der Weg der Liebe
DTSTART:20121104T100000Z
DTEND:20121104T114500Z
DESCRIPTION:Eine Geschichtenführung in den gemütlichen Stuben des In
 nsbrucker Volkskunstmuseums
LOCATION:Innsbruck\, Volkskunstmuseum\, Universitätsstraße 2
CATEGORIES:Tirol
CONTACT:Christian Kayed\, 0676-4103071
URL:http://www.storyguide.at
CLASS:PUBLIC
END:VEVENT
END:VCALENDAR
