BEGIN:VCALENDAR
PRODID:-//AT Content Types//AT Event//EN
VERSION:2.0
METHOD:PUBLISH
BEGIN:VEVENT
DTSTAMP:20260424T015250Z
CREATED:20110903T180601Z
UID:ATEvent-079e4455bd5ab01e3f39576270b8645b
LAST-MODIFIED:20130212T190327Z
SUMMARY:Der Glanz des Goldes
DTSTART:20130301T143000Z
DTEND:20130301T161500Z
DESCRIPTION:Eine Geschichtenführung zu Königen\, Heiligen und Götti
 nnen vor und hinter dem Goldenen Dachl
LOCATION:Innsbruck\, Goldenes Dachl
CATEGORIES:Tirol
CONTACT:Christian Kayed\, 0676-4103071
URL:http://www.storyguide.at
CLASS:PUBLIC
END:VEVENT
END:VCALENDAR
