BEGIN:VCALENDAR
PRODID:-//AT Content Types//AT Event//EN
VERSION:2.0
METHOD:PUBLISH
BEGIN:VEVENT
DTSTAMP:20260424T015249Z
CREATED:20120122T115605Z
UID:ATEvent-7ab37d33071353d9548c80be07d9a45b
LAST-MODIFIED:20120122T115709Z
SUMMARY:Von Bergen und Menschen
DTSTART:20120428T090000Z
DTEND:20120428T104500Z
DESCRIPTION:Eine trittsichere und gipfelreiche Geschichtenführung im 
 Innsbrucker Alpenverein-Museum
LOCATION:Innsbruck\, Alpenverein-Museum\, Hofburg\, Rennweg 1
CATEGORIES:Tirol
CONTACT:Christian Kayed\, 0676-4103071
URL:http://www.storyguide.at
CLASS:PUBLIC
END:VEVENT
END:VCALENDAR
