BEGIN:VCALENDAR
PRODID:-//AT Content Types//AT Event//EN
VERSION:2.0
METHOD:PUBLISH
BEGIN:VEVENT
DTSTAMP:20260423T205900Z
CREATED:20110903T180601Z
UID:ATEvent-d62897c62928b9a74ce5edd2349adc01
LAST-MODIFIED:20130330T194904Z
SUMMARY:Der Glanz des Goldes
DTSTART:20131011T133000Z
DTEND:20131011T151500Z
DESCRIPTION:Eine Geschichtenführung zu Königen\, Heiligen und Götti
 nnen vor und hinter dem Goldenen Dachl
LOCATION:Innsbruck\, Goldenes Dachl
CATEGORIES:Tirol
CONTACT:Christian Kayed\, 0676-4103071
URL:http://www.storyguide.at
CLASS:PUBLIC
END:VEVENT
END:VCALENDAR
