BEGIN:VCALENDAR
PRODID:-//AT Content Types//AT Event//EN
VERSION:1.0
BEGIN:VEVENT
DTSTART:20110822T153000Z
DTEND:20110822T170000Z
DCREATED:20110707T062922Z
UID:ATEvent-52ed1f2954f4d813fbe838ea5ef3fdf1
SEQUENCE:0
LAST-MODIFIED:20110707T062922Z
SUMMARY:ZAUBER\, WUNDER HEXENBESEN - Märchen- und Rätselspaziergang durch den Augarten für große und kleine Zuhörende
DESCRIPTION:Wir treffen uns auf der Wiese hinter dem Haupteingang\, de
 m großen\, steinernen Tor\, und spazieren gemütlich durch den Augart
 en\, machen zwischendurch Halt\, lauschen den Märchen\, treffen dort 
 u.a. sprechende Bäume\, Hexen auf ihren Besen und zauberhafte Wesen\,
  bevor wir zum nächsten Märchenplatz ein Stück weiter gehen. Unsere
  letzte Station ist der Spielplatz. Dort öffnen uns die Antworten auf
  die Märchen-Rätselfragen die Schatztruhe\, in der sich für jede/n 
 etwas findet.
LOCATION:Haupteingang Augarten\, 1020 Wien\, Obere Augartenstraße 1
PRIORITY:3
TRANSP:0
END:VEVENT
END:VCALENDAR
