BEGIN:VCALENDAR
PRODID:-//AT Content Types//AT Event//EN
VERSION:2.0
METHOD:PUBLISH
BEGIN:VEVENT
DTSTAMP:20260424T015504Z
CREATED:20110707T062659Z
UID:ATEvent-ae19e6b25d9fb2fb233f58859316be42
LAST-MODIFIED:20110707T062700Z
SUMMARY:ZAUBER\, WUNDER HEXENBESEN - Märchen- und Rätselspaziergang durch den Augarten für große und kleine Zuhörende
DTSTART:20110808T153000Z
DTEND:20110808T170000Z
DESCRIPTION:Wir treffen uns auf der Wiese hinter dem Haupteingang\, de
 m großen\, steinernen Tor\, und spazieren gemütlich durch den Augart
 en\, machen zwischendurch Halt\, lauschen den Märchen\, treffen dort 
 u.a. sprechende Bäume\, Hexen auf ihren Besen und zauberhafte Wesen\,
  bevor wir zum nächsten Märchenplatz ein Stück weiter gehen. Unsere
  letzte Station ist der Spielplatz. Dort öffnen uns die Antworten auf
  die Märchen-Rätselfragen die Schatztruhe\, in der sich für jede/n 
 etwas findet.
LOCATION:Haupteingang Augarten\, 1020 Wien\, Obere Augartenstraße 1
CATEGORIES:Wien
CONTACT:Mag.a Christa Schmollgruber\, --43-(0)676-3927021\, cs@maerchenfuermenschen.at
URL:http://www.maerchenfuermenschen.at
CLASS:PUBLIC
END:VEVENT
END:VCALENDAR
