BEGIN:VCALENDAR
PRODID:-//AT Content Types//AT Event//EN
VERSION:2.0
METHOD:PUBLISH
BEGIN:VEVENT
DTSTAMP:20260423T233700Z
CREATED:20110707T064010Z
UID:ATEvent-e42b9f26b2632f68951603d634b4313d
LAST-MODIFIED:20110707T064203Z
SUMMARY:WAS FRAUEN WOLLEN - Erzähl-Nachmittag VON starken Frauen FÜR starke Frauen
DTSTART:20110830T143000Z
DTEND:20110830T153000Z
LOCATION:Mrs.Sporty\, Untere Augartenstraße 26/2\, 1020 Wien
CATEGORIES:Wien
CONTACT:Mag.a Christa Schmollgruber\, --43-(0)676-3927021\, cs@maerchenfuermenschen.at
URL:http://www.maerchenfuermenschen.at
CLASS:PUBLIC
END:VEVENT
END:VCALENDAR
