BEGIN:VCALENDAR
PRODID:-//AT Content Types//AT Event//EN
VERSION:1.0
BEGIN:VEVENT
DTSTART:20111116T080000Z
DTEND:20111116T110000Z
DCREATED:20110707T075226Z
UID:ATEvent-e562d859d2d08f054aae1b857e98f132
SEQUENCE:0
LAST-MODIFIED:20110707T075226Z
SUMMARY:SAGEN-hafte Recyclingideen für Schulen und Hort
DESCRIPTION:Christa Schmollgruber erzählt Wiener Sagen für Kinder ab
  8 Jahren. In einem anschließenden Workshop kreieren die Schüler/-in
 nen mit der Künstlerin Regina Lustig Sagen-haftes aus selbst gesammel
 ten\, leeren und gut ausgewaschenen Verpackungen.\n\n\nWählen Sie gem
 einsam mit Ihrer Klasse aus 5 Sagen-haften Recyclingideen!
LOCATION:WUK KinderKultur\; Währingerstraße 59\; A-1090 Wien
PRIORITY:3
TRANSP:0
END:VEVENT
END:VCALENDAR
