BEGIN:VCALENDAR
PRODID:-//AT Content Types//AT Event//EN
VERSION:1.0
BEGIN:VEVENT
DTSTART:20111124T080000Z
DTEND:20111124T150000Z
DCREATED:20110707T080200Z
UID:ATEvent-1a26373b3ebec60a963504edaa22803b
SEQUENCE:0
LAST-MODIFIED:20110707T080200Z
SUMMARY:SAGEN-hafte Recyclingideen für Schulen und Hort
DESCRIPTION:Christa Schmollgruber erzählt Wiener Sagen für Kinder ab
  6 Jahren. In einem anschließenden Workshop kreieren die Schüler/-in
 nen mit der Künstlerin Regina Lustig Sagen-haftes aus selbst gesammel
 ten\, leeren und gut ausgewaschenen Verpackungen.\n\n\nWählen Sie gem
 einsam mit Ihrer Klasse aus 5 Sagen-haften Recyclingideen!
LOCATION:WuK KinderKultur\; Währingerstraße 59\; A-1090 Wien
PRIORITY:3
TRANSP:0
END:VEVENT
END:VCALENDAR
