BEGIN:VCALENDAR
PRODID:-//AT Content Types//AT Event//EN
VERSION:2.0
METHOD:PUBLISH
BEGIN:VEVENT
DTSTAMP:20260423T233705Z
CREATED:20110707T075744Z
UID:ATEvent-09277c5e3c284722646db106d70981ca
LAST-MODIFIED:20110707T075745Z
SUMMARY:SAGEN-hafte Recyclingideen für Schulen und Hort
DTSTART:20111122T080000Z
DTEND:20111122T150000Z
DESCRIPTION:Christa Schmollgruber erzählt Wiener Sagen für Kinder ab
  6 Jahren. In einem anschließenden Workshop kreieren die Schüler/-in
 nen mit der Künstlerin Regina Lustig Sagen-haftes aus selbst gesammel
 ten\, leeren und gut ausgewaschenen Verpackungen.\n\n\nWählen Sie gem
 einsam mit Ihrer Klasse aus 5 Sagen-haften Recyclingideen!
LOCATION:WuK KinderKultur\; Währingerstraße 59\; A-1090 Wien
CATEGORIES:Wien
CONTACT:Judith Zenta WUK KinderKultur\, 01-40121-70\, MO-Fr 10-17 Uhr\, tickets@wuk.at
URL:http://www.maerchenfuermenschen.at
CLASS:PUBLIC
END:VEVENT
END:VCALENDAR
