BEGIN:VCALENDAR
PRODID:-//AT Content Types//AT Event//EN
VERSION:2.0
METHOD:PUBLISH
BEGIN:VEVENT
DTSTAMP:20260423T233317Z
CREATED:20110707T072457Z
UID:ATEvent-30ec548cd5d9be1912d2861790acce51
LAST-MODIFIED:20110707T080835Z
SUMMARY:Quelle Weiblichkeit - Eine Märchen-Bilder-Reise für Frauen
DTSTART:20111022T070000Z
DTEND:20111023T140000Z
DESCRIPTION:Entdecken Sie den Zugang zu Ihren 5 Kraftquellen\, \naus d
 enen Sie jederzeit schöpfen können. Erkennen \nSie Ihre ureigenen Po
 tentiale. Bereichern Sie Ihr \ntägliches Leben mit Lebendigkeit und G
 elassenheit. \nGehen Sie mutig Ihren Weg.\n\nMündliches Erzählen ruf
 t Seelenbilder hervor.\nMit Farben\, Formen und Bewegung werden diese 
 ins   \nHier und Jetzt getragen.                                      
                        \nDabei begegnen wir unserem inneren Kind und d
 er \nsuchenden Jugendlichen genauso wie der \nnährenden Mutter\, der 
 wilden Frau im Wechsel und \nschlussendlich der reichen Weisen Frau.\n
 \n\nMethoden\:      \nmündliches Erzählen\, Malen\, Arbeit mit Ton\,
  \nRollenspiel\, Fantasiereise
LOCATION:Erfahrungsraum\, Zirkusgasse 3/5/R1\, 1020 Wien
CATEGORIES:Wien
CONTACT:Mag.a Melanie Mezera\, 0699/19580345\, cs@maerchenfuermenschen.at
URL:http://www.maerchenfuermenschen.at
CLASS:PUBLIC
END:VEVENT
END:VCALENDAR
