BEGIN:VCALENDAR
PRODID:-//AT Content Types//AT Event//EN
VERSION:1.0
BEGIN:VEVENT
DTSTART:20111206T090000Z
DTEND:20111206T150000Z
DCREATED:20110707T074153Z
UID:ATEvent-33a0f3b3d88a868fefffda8a122fd08f
SEQUENCE:0
LAST-MODIFIED:20110707T074154Z
SUMMARY:NIKOLO-Fest im Rathaus - MÄRCHEN-Non-Stop zur Winters- und Weihnachtszeit
DESCRIPTION:Den ganzen Tag erzählen Christa Schmollgruber und Beate D
 roppelmann wieder Märchen aus aller Welt zur Winters- und Weihnachtsz
 eit für Kindergärten aus nah und fern.\nVoranmeldung notwendig!
LOCATION:Rathaus\, 1010 Wien
PRIORITY:3
TRANSP:0
END:VEVENT
END:VCALENDAR
