BEGIN:VCALENDAR
PRODID:-//AT Content Types//AT Event//EN
VERSION:1.0
BEGIN:VEVENT
DTSTART:20111203T080000Z
DTEND:20111204T120000Z
DCREATED:20110707T071216Z
UID:ATEvent-ca17c02d2667599554d7c9d26cb64a5d
SEQUENCE:0
LAST-MODIFIED:20110707T071216Z
SUMMARY:MÄRCHEN ERZÄHLEN LERNEN - Ein Lehrgang in 8 Schritten - 3. Wochenende
PRIORITY:3
TRANSP:0
END:VEVENT
END:VCALENDAR
