BEGIN:VCALENDAR
PRODID:-//AT Content Types//AT Event//EN
VERSION:1.0
BEGIN:VEVENT
DTSTART:20111105T080000Z
DTEND:20111106T120000Z
DCREATED:20110707T070856Z
UID:ATEvent-6a7a3bccf5ad5d2301b6cf63edfca3b1
SEQUENCE:0
LAST-MODIFIED:20110707T070955Z
SUMMARY:MÄRCHEN ERZÄHLEN LERNEN - Ein Lehrgang in 8 Schritten - 2. Wochenende
PRIORITY:3
TRANSP:0
END:VEVENT
END:VCALENDAR
