BEGIN:VCALENDAR
PRODID:-//AT Content Types//AT Event//EN
VERSION:2.0
METHOD:PUBLISH
BEGIN:VEVENT
DTSTAMP:20260423T232841Z
CREATED:20110707T064657Z
UID:ATEvent-61c41b0489abb5a1a140c34275fd9f6d
LAST-MODIFIED:20110707T064657Z
SUMMARY:ERNTE.ZEIT - DUO Maerklang - Märchen und Harfe
DTSTART:20111002T170000Z
DTEND:20111002T193000Z
LOCATION:Kleine Kapelle\, Konzertraum\, Weihburggasse 14\, 1010 Wien
CATEGORIES:Wien
CONTACT:Mag.a Christa Schmollgruber\, --43-(0)676-3927021\, cs@maerchenfuermenschen.at
URL:http://www.maerchenfuermenschen.at
CLASS:PUBLIC
END:VEVENT
END:VCALENDAR
