BEGIN:VCALENDAR
PRODID:-//AT Content Types//AT Event//EN
VERSION:1.0
BEGIN:VEVENT
DTSTART:20110924T130000Z
DTEND:20110924T150000Z
DCREATED:20110707T065030Z
UID:ATEvent-de0fd02630bc6e5bad7e8c5825259f1b
SEQUENCE:0
LAST-MODIFIED:20110707T065030Z
SUMMARY:DRACHEN\, SPINNEN\, RIESENSCHRITTE - Sagen-Spaziergang rund um den halben Ring
LOCATION:Schwedenplatz/Ecke Rotenturmstraße\, 1010 Wien
PRIORITY:3
TRANSP:0
END:VEVENT
END:VCALENDAR
