BEGIN:VCALENDAR
PRODID:-//AT Content Types//AT Event//EN
VERSION:2.0
METHOD:PUBLISH
BEGIN:VEVENT
DTSTAMP:20260423T233446Z
CREATED:20110608T100951Z
UID:ATEvent-56a5b4410bd1ed58f5fe67a13e4b4b00
LAST-MODIFIED:20110608T100951Z
SUMMARY:DIE REISE ZUM MONDMANN - Ein Märchenspaziergang für die ganze Familie
DTSTART:20110823T070000Z
DTEND:20110823T090000Z
DESCRIPTION:Vom Cobenzl aus gehen wir durch den Zauberwald bis zum Leb
 ensbaumkreis am Himmel. Zwischendurch setzten wir uns und hören Märc
 hen\, wie Burschen und Mädchen sich die Welt erobern sowie einiges vo
 n der Entstehung der Welt. Zum Abschluss gibt´s dann für alle das ob
 ligatorische "Geschenk der Kokosnuss". -----------Veranstalter\: wienX
 tra-ferienspiel
LOCATION:Treffpunkt\: Bushaltestelle Cobenzl Parkplatz
CATEGORIES:Wien
CONTACT:Mag.a Christa Schmollgruber\, --43-(0)676-3927021\, cs@maerchenfuermenschen.at
URL:http://www.maerchenfuermenschen.at
CLASS:PUBLIC
END:VEVENT
END:VCALENDAR
