BEGIN:VCALENDAR
PRODID:-//AT Content Types//AT Event//EN
VERSION:1.0
BEGIN:VEVENT
DTSTART:20090525T160000Z
DTEND:20090525T180000Z
DCREATED:20090524T235502Z
UID:ATEvent-7eb3df5c4ba04ce0bbba6388417ce97e
SEQUENCE:0
LAST-MODIFIED:20090524T235503Z
SUMMARY:Beispieltermin
DESCRIPTION:Sowas
PRIORITY:3
TRANSP:0
END:VEVENT
END:VCALENDAR
