BEGIN:VCALENDAR
PRODID:-//AT Content Types//AT Event//EN
VERSION:2.0
METHOD:PUBLISH
BEGIN:VEVENT
DTSTAMP:20260423T233438Z
CREATED:20091007T185809Z
UID:ATEvent-5d1d30db18f0bfd8592327558a83e268
LAST-MODIFIED:20091007T185852Z
SUMMARY:Die Sonne ist müde. Herzerwärmende Märchen in der kalten Jahreszeit
DTSTART:20091212T150000Z
DTEND:20091212T160000Z
DESCRIPTION:Aus dem Nähkästchen erzählt für Kinder ab 6 Jahren
LOCATION:Alte Volksschule\, Mils (bei Hall i.T.)
CATEGORIES:Tirol
URL:http://barbarabeinsteiner.at
CLASS:PUBLIC
END:VEVENT
END:VCALENDAR
