BEGIN:VCALENDAR
PRODID:-//AT Content Types//AT Event//EN
VERSION:1.0
BEGIN:VEVENT
DTSTART:20090330T180000Z
DTEND:20090330T210000Z
DCREATED:20090322T235958Z
UID:ATEvent-ce08ad53a25a381d4c370df1bf2a2aa1
SEQUENCE:0
LAST-MODIFIED:20090323T000019Z
SUMMARY:neuer termin
PRIORITY:3
TRANSP:0
END:VEVENT
END:VCALENDAR
